BEGIN:VCALENDAR
VERSION:2.0
PRODID:-//hacksw/handcal//NONSGML v1.0//EN
BEGIN:VEVENT
SUMMARY:Le Rondeau (38) - Le 18 et 19 juillet 2026
UID:05f4eb74-10a1-463a-ade9-11dd6f5aca3f
DTSTART:20260717T220000Z
DTEND:20260719T220000Z
LOCATION:Localisation rondeau 38890 Saint Chef
CATEGORIES:Sportif
STATUS:
DESCRIPTION:<p>Concours en americaine organise par l'UPC38. 2 manches
 de 6 heures. Moulinet interdit. </p>
URL;VALUE=URI:https://pcl42.sportsregions.fr/evenements/2026/07/18/le-rondeau-38-le-18-et-19-juillet-2026-2440980
END:VEVENT
END:VCALENDAR
