BEGIN:VCALENDAR
VERSION:2.0
PRODID:-//hacksw/handcal//NONSGML v1.0//EN
BEGIN:VEVENT
SUMMARY:Etang creux Berthelier (42) Briennon - Le 23/05/26
UID:62843290-0b39-4902-a15a-b12950780ef7
DTSTART:20260523T073000Z
DTEND:20260523T150000Z
LOCATION:Localisation Etang creux Berthelier  Briennon
CATEGORIES:Sportif
STATUS:
DESCRIPTION:<p>Challenge Jean Randouin et Georges Trichard open en
 americaine.</p>
URL;VALUE=URI:https://pcl42.sportsregions.fr/evenements/2026/05/23/etang-creux-berthelier-42-briennon-le-230526-2425526
END:VEVENT
END:VCALENDAR
