BEGIN:VCALENDAR
VERSION:2.0
PRODID:-//hacksw/handcal//NONSGML v1.0//EN
BEGIN:VEVENT
SUMMARY:Etang creux Berthelier (42) Briennon - Le 18/04/26
UID:6f2f0b28-2b38-4226-9818-148ef04fa254
DTSTART:20260418T073000Z
DTEND:20260418T150000Z
LOCATION:Localisation Etang creux Berthelier  Briennon
CATEGORIES:Sportif
STATUS:
DESCRIPTION:<p>Challenge Fradin's open en americaine.</p>
URL;VALUE=URI:https://pcl42.sportsregions.fr/evenements/2026/04/18/etang-creux-berthelier-42-briennon-le-180426-2425509
END:VEVENT
END:VCALENDAR
